BEGIN:VCALENDAR
VERSION:2.0
PRODID:-//Drupal iCal API//EN
X-WR-CALNAME:Events items teaser
X-WR-TIMEZONE:America/Toronto
BEGIN:VTIMEZONE
TZID:America/Toronto
X-LIC-LOCATION:America/Toronto
BEGIN:DAYLIGHT
TZNAME:EDT
TZOFFSETFROM:-0500
TZOFFSETTO:-0400
DTSTART:20240310T070000
END:DAYLIGHT
BEGIN:STANDARD
TZNAME:EST
TZOFFSETFROM:-0400
TZOFFSETTO:-0500
DTSTART:20231105T060000
END:STANDARD
END:VTIMEZONE
BEGIN:VEVENT
UID:69eb605e39159
DTSTART;TZID=America/Toronto:20240419T093000
SEQUENCE:0
TRANSP:TRANSPARENT
DTEND;TZID=America/Toronto:20240419T113000
URL:https://uwaterloo.ca/chemistry/events/masters-thesis-defence-benjamin-k
 appheim
SUMMARY:Master's Thesis Defence - Benjamin Kappheim
CLASS:PUBLIC
DESCRIPTION:SYNTHESIS OF DEUTERATED BENZENE FOR A CIRCULAR DEUTERIUM ECONOM
 Y\n\nSUPERVISOR: G. MURPHY\n\nFRIDAY\, APRIL 19\, 2024\n\n9:30 AM\n\nIN-PE
 RSON: C2-278
DTSTAMP:20260424T122150Z
END:VEVENT
END:VCALENDAR