BEGIN:VCALENDAR
VERSION:2.0
PRODID:-//Drupal iCal API//EN
X-WR-CALNAME:Events items teaser
X-WR-TIMEZONE:America/Toronto
BEGIN:VTIMEZONE
TZID:America/Toronto
X-LIC-LOCATION:America/Toronto
BEGIN:DAYLIGHT
TZNAME:EDT
TZOFFSETFROM:-0500
TZOFFSETTO:-0400
DTSTART:20240310T070000
END:DAYLIGHT
BEGIN:STANDARD
TZNAME:EST
TZOFFSETFROM:-0400
TZOFFSETTO:-0500
DTSTART:20231105T060000
END:STANDARD
END:VTIMEZONE
BEGIN:VEVENT
UID:69eb76a980738
DTSTART;TZID=America/Toronto:20240516T090000
SEQUENCE:0
TRANSP:TRANSPARENT
DTEND;TZID=America/Toronto:20240516T120000
URL:https://uwaterloo.ca/chemistry/events/doctoral-thesis-defence-avery
SUMMARY:Doctoral Thesis Defence - Avery To
CLASS:PUBLIC
DESCRIPTION:A CURIOSITY DRIVEN EXPLORATION OF HYPERVALENT IODINE(III) REAGE
 NTS\n\nSUPERVISOR: G. MURPHY\n\nTHURSDAY\, MAY 16\, 2024\n\n9:00 am\n\nIN-
 PERSON: C2-361
DTSTAMP:20260424T135657Z
END:VEVENT
END:VCALENDAR