BEGIN:VCALENDAR
VERSION:2.0
PRODID:-//Drupal iCal API//EN
X-WR-CALNAME:Events items teaser
X-WR-TIMEZONE:America/Toronto
BEGIN:VTIMEZONE
TZID:America/Toronto
X-LIC-LOCATION:America/Toronto
BEGIN:DAYLIGHT
TZNAME:EDT
TZOFFSETFROM:-0500
TZOFFSETTO:-0400
DTSTART:20240310T070000
END:DAYLIGHT
BEGIN:STANDARD
TZNAME:EST
TZOFFSETFROM:-0400
TZOFFSETTO:-0500
DTSTART:20231105T060000
END:STANDARD
END:VTIMEZONE
BEGIN:VEVENT
UID:69eb63f2908cb
DTSTART;TZID=America/Toronto:20240426T143000
SEQUENCE:0
TRANSP:TRANSPARENT
DTEND;TZID=America/Toronto:20240426T163000
URL:https://uwaterloo.ca/chemistry/events/masters-thesis-defence-aliaksandr
 a-radchanka
SUMMARY:Master's Thesis Defence - Aliaksandra Radchanka
CLASS:PUBLIC
DESCRIPTION:EXPLORING RUTHENIUM NANOPARTICLES GEOMETRIC COMPLEXITY TO BOOST
 \nKELLOGG ADVANCED AMMONIA PROCESS THROUGH CONFINEMENT EFFECT\n\nSUPERVISO
 R: A. KLINKOVA\n\nFRIDAY\, APRIL 26\, 2024\n\n2:30 PM\n\nIN-PERSON: C2-361
DTSTAMP:20260424T123706Z
END:VEVENT
END:VCALENDAR