BEGIN:VCALENDAR
VERSION:2.0
PRODID:-//Drupal iCal API//EN
X-WR-CALNAME:Events items teaser
X-WR-TIMEZONE:America/Toronto
BEGIN:VTIMEZONE
TZID:America/Toronto
X-LIC-LOCATION:America/Toronto
BEGIN:DAYLIGHT
TZNAME:EDT
TZOFFSETFROM:-0500
TZOFFSETTO:-0400
DTSTART:20240310T070000
END:DAYLIGHT
BEGIN:STANDARD
TZNAME:EST
TZOFFSETFROM:-0400
TZOFFSETTO:-0500
DTSTART:20231105T060000
END:STANDARD
END:VTIMEZONE
BEGIN:VEVENT
UID:69ebbe456c818
DTSTART;TZID=America/Toronto:20240523T133000
SEQUENCE:0
TRANSP:TRANSPARENT
DTEND;TZID=America/Toronto:20240523T150000
URL:https://uwaterloo.ca/chemistry/events/masters-seminar-agnes-katai
SUMMARY:Master's Seminar - Agnes Katai
CLASS:PUBLIC
DESCRIPTION:INVESTIGATING CORROSION OF HEAS IN MOLTEN SALT USING COMPUTATIO
 N\nAPPROACHES\n\nSupervisor: C. Tetsassi\nCommittee members: M Nooijen\, R
 . Smith\n\nTHURSDAY\, MAY 23\, 2024\n1:30 pm\n\nC2-361
DTSTAMP:20260424T190229Z
END:VEVENT
END:VCALENDAR