BEGIN:VCALENDAR
VERSION:2.0
PRODID:-//Drupal iCal API//EN
X-WR-CALNAME:Events items teaser
X-WR-TIMEZONE:America/Toronto
BEGIN:VTIMEZONE
TZID:America/Toronto
X-LIC-LOCATION:America/Toronto
BEGIN:DAYLIGHT
TZNAME:EDT
TZOFFSETFROM:-0500
TZOFFSETTO:-0400
DTSTART:20240310T070000
END:DAYLIGHT
BEGIN:STANDARD
TZNAME:EST
TZOFFSETFROM:-0400
TZOFFSETTO:-0500
DTSTART:20231105T060000
END:STANDARD
END:VTIMEZONE
BEGIN:VEVENT
UID:69eb63ea1854b
DTSTART;TZID=America/Toronto:20240704T143000
SEQUENCE:0
TRANSP:TRANSPARENT
DTEND;TZID=America/Toronto:20240704T160000
URL:https://uwaterloo.ca/chemistry/events/masters-seminar-alexander-li
SUMMARY:Master's Seminar - Alexander Li
CLASS:PUBLIC
DESCRIPTION:MULTIELEMENT HETEROSTRUCTURES FOR ELECTROCATALYSIS\n\nSuperviso
 r: V. Maheshwari\nCommittee members: T. Leung\, M. Pope\n\nTHURSDAY\, JULY
  4\, 2024\n2:30 pm\n\nC2-361
DTSTAMP:20260424T123658Z
END:VEVENT
END:VCALENDAR