BEGIN:VCALENDAR
VERSION:2.0
PRODID:-//Drupal iCal API//EN
X-WR-CALNAME:Events items teaser
X-WR-TIMEZONE:America/Toronto
BEGIN:VTIMEZONE
TZID:America/Toronto
X-LIC-LOCATION:America/Toronto
BEGIN:DAYLIGHT
TZNAME:EDT
TZOFFSETFROM:-0500
TZOFFSETTO:-0400
DTSTART:20240310T070000
END:DAYLIGHT
BEGIN:STANDARD
TZNAME:EST
TZOFFSETFROM:-0400
TZOFFSETTO:-0500
DTSTART:20231105T060000
END:STANDARD
END:VTIMEZONE
BEGIN:VEVENT
UID:69eb63ed91596
DTSTART;TZID=America/Toronto:20240718T100000
SEQUENCE:0
TRANSP:TRANSPARENT
DTEND;TZID=America/Toronto:20240718T113000
URL:https://uwaterloo.ca/chemistry/events/masters-seminar-alexander-sweett
SUMMARY:Master's Seminar - Alexander Sweett
CLASS:PUBLIC
DESCRIPTION:VOLATILE ORGANIC COMPOUND PASSIVE SAMPLING\n\nSupervisor: T. Go
 recki\nCommittee members: J. Liu\, S. Hopkins\n\nTHURSDAY\, JULY 18\, 2024
 \n10:00 am\n\nC2-361
DTSTAMP:20260424T123701Z
END:VEVENT
END:VCALENDAR