BEGIN:VCALENDAR
VERSION:2.0
PRODID:-//Drupal iCal API//EN
X-WR-CALNAME:Events items teaser
X-WR-TIMEZONE:America/Toronto
BEGIN:VTIMEZONE
TZID:America/Toronto
X-LIC-LOCATION:America/Toronto
BEGIN:DAYLIGHT
TZNAME:EDT
TZOFFSETFROM:-0500
TZOFFSETTO:-0400
DTSTART:20240310T070000
END:DAYLIGHT
BEGIN:STANDARD
TZNAME:EST
TZOFFSETFROM:-0400
TZOFFSETTO:-0500
DTSTART:20231105T060000
END:STANDARD
END:VTIMEZONE
BEGIN:VEVENT
UID:69ebbe50e59b7
DTSTART;TZID=America/Toronto:20240808T140000
SEQUENCE:0
TRANSP:TRANSPARENT
DTEND;TZID=America/Toronto:20240808T160000
URL:https://uwaterloo.ca/chemistry/events/masters-thesis-defence-xiaoyue-li
 u
SUMMARY:Master's Thesis Defence - Xiaoyue Liu
CLASS:PUBLIC
DESCRIPTION:PROTEOLYSIS AND MASS SPECTROMETRY FOR STRUCTURAL CHARACTERIZATI
 ON OF\nADNECTIN INCLUSION BODIES\n\nSUPERVISOR: E. MEIERING\n\nTHURSDAY\, 
 AUGUST 8\, 2024\n\n2:00 PM\n\nIN-PERSON: C2-361
DTSTAMP:20260424T190240Z
END:VEVENT
END:VCALENDAR