BEGIN:VCALENDAR
VERSION:2.0
PRODID:-//Drupal iCal API//EN
X-WR-CALNAME:Events items teaser
X-WR-TIMEZONE:America/Toronto
BEGIN:VTIMEZONE
TZID:America/Toronto
X-LIC-LOCATION:America/Toronto
BEGIN:DAYLIGHT
TZNAME:EDT
TZOFFSETFROM:-0500
TZOFFSETTO:-0400
DTSTART:20240310T070000
END:DAYLIGHT
BEGIN:STANDARD
TZNAME:EST
TZOFFSETFROM:-0400
TZOFFSETTO:-0500
DTSTART:20231105T060000
END:STANDARD
END:VTIMEZONE
BEGIN:VEVENT
UID:69eb769c7bc08
DTSTART;TZID=America/Toronto:20240809T100000
SEQUENCE:0
TRANSP:TRANSPARENT
DTEND;TZID=America/Toronto:20240809T120000
URL:https://uwaterloo.ca/chemistry/events/masters-thesis-defence-iain-mcdon
 ald
SUMMARY:Master's Thesis Defence - Iain McDonald
CLASS:PUBLIC
DESCRIPTION:IDENTIFYING ELECTROSTATIC RESIDUES CONTROLLING PH-DEPENDENT SWI
 TCHING\nIN MYRISTOYLATED HISACTOPHILIN\n\nSUPERVISOR: E. MEIERING\n\nFRIDA
 Y\, AUGUST 9\, 2024\n\n10:00 AM\n\nIN-PERSON: C2-361 (AND TEAMS)
DTSTAMP:20260424T135644Z
END:VEVENT
END:VCALENDAR