BEGIN:VCALENDAR
VERSION:2.0
PRODID:-//Drupal iCal API//EN
X-WR-CALNAME:Events items teaser
X-WR-TIMEZONE:America/Toronto
BEGIN:VTIMEZONE
TZID:America/Toronto
X-LIC-LOCATION:America/Toronto
BEGIN:DAYLIGHT
TZNAME:EDT
TZOFFSETFROM:-0500
TZOFFSETTO:-0400
DTSTART:20240310T070000
END:DAYLIGHT
BEGIN:STANDARD
TZNAME:EST
TZOFFSETFROM:-0400
TZOFFSETTO:-0500
DTSTART:20231105T060000
END:STANDARD
END:VTIMEZONE
BEGIN:VEVENT
UID:69ea40c8ab55c
DTSTART;TZID=America/Toronto:20240815T130000
SEQUENCE:0
TRANSP:TRANSPARENT
DTEND;TZID=America/Toronto:20240815T160000
URL:https://uwaterloo.ca/chemistry/events/doctoral-thesis-defence-yichen-zh
 ao
SUMMARY:Doctoral Thesis Defence - Yichen Zhao
CLASS:PUBLIC
DESCRIPTION:SELECTION AND CHARACTERIZATION OF DNA APTAMERS FOR THE DETECTIO
 N OF\nANTIBIOTICS\n\nSUPERVISOR: J. LIU\n\nTHURSDAY\, AUGUST 15\, 2024\n\n
 1:00 PM\n\nIN-PERSON: C2-361 (AND TEAMS)
DTSTAMP:20260423T155448Z
END:VEVENT
END:VCALENDAR