BEGIN:VCALENDAR
VERSION:2.0
PRODID:-//Drupal iCal API//EN
X-WR-CALNAME:Events items teaser
X-WR-TIMEZONE:America/Toronto
BEGIN:VTIMEZONE
TZID:America/Toronto
X-LIC-LOCATION:America/Toronto
BEGIN:DAYLIGHT
TZNAME:EDT
TZOFFSETFROM:-0500
TZOFFSETTO:-0400
DTSTART:20240310T070000
END:DAYLIGHT
BEGIN:STANDARD
TZNAME:EST
TZOFFSETFROM:-0400
TZOFFSETTO:-0500
DTSTART:20231105T060000
END:STANDARD
END:VTIMEZONE
BEGIN:VEVENT
UID:69eb6044b77d0
DTSTART;TZID=America/Toronto:20240816T103000
SEQUENCE:0
TRANSP:TRANSPARENT
DTEND;TZID=America/Toronto:20240816T123000
URL:https://uwaterloo.ca/chemistry/events/masters-thesis-defence-christophe
 r-ryan
SUMMARY:Master's Thesis Defence - Christopher Ryan
CLASS:PUBLIC
DESCRIPTION:TWO-DIMENSIONAL SEPARATION VIA HYBRID LIQUID CHROMATOGRAPHY AND
 \nDIFFERENTIAL ION MOBILITY SPECTROMETRY FOR PFAS CHARACTERIZATION\n\nSUPE
 RVISOR: S. HOPKINS\n\nFRIDAY\, AUGUST 16\, 2024\n\n10:30 AM\n\nIN-PERSON: 
 C2-361
DTSTAMP:20260424T122124Z
END:VEVENT
END:VCALENDAR