BEGIN:VCALENDAR
VERSION:2.0
PRODID:-//Drupal iCal API//EN
X-WR-CALNAME:Events items teaser
X-WR-TIMEZONE:America/Toronto
BEGIN:VTIMEZONE
TZID:America/Toronto
X-LIC-LOCATION:America/Toronto
BEGIN:DAYLIGHT
TZNAME:EDT
TZOFFSETFROM:-0500
TZOFFSETTO:-0400
DTSTART:20240310T070000
END:DAYLIGHT
BEGIN:STANDARD
TZNAME:EST
TZOFFSETFROM:-0400
TZOFFSETTO:-0500
DTSTART:20231105T060000
END:STANDARD
END:VTIMEZONE
BEGIN:VEVENT
UID:69eb604698bff
DTSTART;TZID=America/Toronto:20240906T100000
SEQUENCE:0
TRANSP:TRANSPARENT
DTEND;TZID=America/Toronto:20240906T120000
URL:https://uwaterloo.ca/chemistry/events/masters-thesis-defence-mark-brutt
 o
SUMMARY:Master's Thesis Defence - Mark Brutto
CLASS:PUBLIC
DESCRIPTION:SYNTHESIS AND STUDY OF A LITHIUM SELECTIVE CHELATOR\n\nSUPERVIS
 OR: D. SCHIPPER\n\nFRIDAY\, SEPTEMBER 6\, 2024\n\n10:00 AM\n\nHYBRID: C2-3
 61
DTSTAMP:20260424T122126Z
END:VEVENT
END:VCALENDAR