BEGIN:VCALENDAR
VERSION:2.0
PRODID:-//Drupal iCal API//EN
X-WR-CALNAME:Events items teaser
X-WR-TIMEZONE:America/Toronto
BEGIN:VTIMEZONE
TZID:America/Toronto
X-LIC-LOCATION:America/Toronto
BEGIN:DAYLIGHT
TZNAME:EDT
TZOFFSETFROM:-0500
TZOFFSETTO:-0400
DTSTART:20240310T070000
END:DAYLIGHT
BEGIN:STANDARD
TZNAME:EST
TZOFFSETFROM:-0400
TZOFFSETTO:-0500
DTSTART:20231105T060000
END:STANDARD
END:VTIMEZONE
BEGIN:VEVENT
UID:69eb60452f366
DTSTART;TZID=America/Toronto:20240909T110000
SEQUENCE:0
TRANSP:TRANSPARENT
DTEND;TZID=America/Toronto:20240909T130000
URL:https://uwaterloo.ca/chemistry/events/masters-thesis-defence-fiona-thom
 pson
SUMMARY:Master's Thesis Defence - Fiona Thompson
CLASS:PUBLIC
DESCRIPTION:PROXIMITY SUPERCONDUCTIVITY IN INDIUM ARSENIDE TWO-DIMENSIONAL\
 nELECTRON GAS DEVICES\n\nSUPERVISOR: J. BAUGH\n\nMONDAY\, SEPTEMBER 9\, 20
 24\n\n11:00 AM\n\nHYBRID: C2-361
DTSTAMP:20260424T122125Z
END:VEVENT
END:VCALENDAR