BEGIN:VCALENDAR
VERSION:2.0
PRODID:-//Drupal iCal API//EN
X-WR-CALNAME:Events items teaser
X-WR-TIMEZONE:America/Toronto
BEGIN:VTIMEZONE
TZID:America/Toronto
X-LIC-LOCATION:America/Toronto
BEGIN:DAYLIGHT
TZNAME:EDT
TZOFFSETFROM:-0500
TZOFFSETTO:-0400
DTSTART:20240310T070000
END:DAYLIGHT
BEGIN:STANDARD
TZNAME:EST
TZOFFSETFROM:-0400
TZOFFSETTO:-0500
DTSTART:20231105T060000
END:STANDARD
END:VTIMEZONE
BEGIN:VEVENT
UID:69ebbe3e6eec3
DTSTART;TZID=America/Toronto:20240911T143000
SEQUENCE:0
TRANSP:TRANSPARENT
DTEND;TZID=America/Toronto:20240911T173000
URL:https://uwaterloo.ca/chemistry/events/doctoral-thesis-defence-songhao-b
 ao
SUMMARY:Doctoral Thesis Defence - Songhao Bao
CLASS:PUBLIC
DESCRIPTION:DEVELOPING QUANTUM FIELD THEORETICAL COMPUTATIONAL METHODS FOR 
 QUANTUM\nDYNAMICS AND STATISTICAL MECHANICS SIMULATIONS IN QUANTUM CHEMIST
 RY\n\nSUPERVISOR: M. NOOIJEN\n\nWEDNESDAY\, SEPTEMBER 11\, 2024\n\n2:30 PM
 \n\nREMOTE
DTSTAMP:20260424T190222Z
END:VEVENT
END:VCALENDAR