BEGIN:VCALENDAR
VERSION:2.0
PRODID:-//Drupal iCal API//EN
X-WR-CALNAME:Events items teaser
X-WR-TIMEZONE:America/Toronto
BEGIN:VTIMEZONE
TZID:America/Toronto
X-LIC-LOCATION:America/Toronto
BEGIN:DAYLIGHT
TZNAME:EDT
TZOFFSETFROM:-0500
TZOFFSETTO:-0400
DTSTART:20240310T070000
END:DAYLIGHT
BEGIN:STANDARD
TZNAME:EST
TZOFFSETFROM:-0400
TZOFFSETTO:-0500
DTSTART:20231105T060000
END:STANDARD
END:VTIMEZONE
BEGIN:VEVENT
UID:69eb05fc47214
DTSTART;TZID=America/Toronto:20241003T113000
SEQUENCE:0
TRANSP:TRANSPARENT
DTEND;TZID=America/Toronto:20241003T133000
URL:https://uwaterloo.ca/chemistry/events/doctoral-seminar-li-yan-wong
SUMMARY:Doctoral Seminar - Li Yan Wong
CLASS:PUBLIC
DESCRIPTION:DEVELOPMENT OF HYDROPHILIC SILICONE-BASED INK FOR THE 3D VAT\nP
 HOTOPOLYMERIZATION PRINTING OF BIOMEDICAL DEVICES\n\nSupervisor: S. Tang\n
 Committee Members: J. Honek\, M. Tam\, F.-I. Auzanneau\n\nTHURSDAY\, OCTOB
 ER 3\, 2024\n11:30 am\nTeams
DTSTAMP:20260424T055612Z
END:VEVENT
END:VCALENDAR