BEGIN:VCALENDAR
VERSION:2.0
PRODID:-//Drupal iCal API//EN
X-WR-CALNAME:Events items teaser
X-WR-TIMEZONE:America/Toronto
BEGIN:VTIMEZONE
TZID:America/Toronto
X-LIC-LOCATION:America/Toronto
BEGIN:DAYLIGHT
TZNAME:EDT
TZOFFSETFROM:-0500
TZOFFSETTO:-0400
DTSTART:20240310T070000
END:DAYLIGHT
BEGIN:STANDARD
TZNAME:EST
TZOFFSETFROM:-0400
TZOFFSETTO:-0500
DTSTART:20231105T060000
END:STANDARD
END:VTIMEZONE
BEGIN:VEVENT
UID:69eb05ec3878b
DTSTART;TZID=America/Toronto:20241008T140000
SEQUENCE:0
TRANSP:TRANSPARENT
DTEND;TZID=America/Toronto:20241008T160000
URL:https://uwaterloo.ca/chemistry/events/masters-thesis-defence-benny-chen
SUMMARY:Master's Thesis Defence - Benny Chen
CLASS:PUBLIC
DESCRIPTION:A PARAMETERIZED VIBRONIC SPIN-ORBIT COUPLING MODEL PROTOCOL SUI
 TABLE\nFOR SPECTROSCOPY\n\nSUPERVISOR: M. NOOIJEN\n\nTUESDAY\, OCTOBER 8\,
  2024\n\n2:00 PM\n\nIN-PERSON: C2-361 AND TEAMS
DTSTAMP:20260424T055556Z
END:VEVENT
END:VCALENDAR