BEGIN:VCALENDAR
VERSION:2.0
PRODID:-//Drupal iCal API//EN
X-WR-CALNAME:Events items teaser
X-WR-TIMEZONE:America/Toronto
BEGIN:VTIMEZONE
TZID:America/Toronto
X-LIC-LOCATION:America/Toronto
BEGIN:DAYLIGHT
TZNAME:EDT
TZOFFSETFROM:-0500
TZOFFSETTO:-0400
DTSTART:20240310T070000
END:DAYLIGHT
BEGIN:STANDARD
TZNAME:EST
TZOFFSETFROM:-0400
TZOFFSETTO:-0500
DTSTART:20231105T060000
END:STANDARD
END:VTIMEZONE
BEGIN:VEVENT
UID:69eb05ed4a4d3
DTSTART;TZID=America/Toronto:20241017T143000
SEQUENCE:0
TRANSP:TRANSPARENT
DTEND;TZID=America/Toronto:20241017T160000
URL:https://uwaterloo.ca/chemistry/events/masters-seminar-benjamin-emmanuel
SUMMARY:Master's Seminar - Benjamin Emmanuel
CLASS:PUBLIC
DESCRIPTION:DETERMINING THE MOLECULAR DETAILS OF LYSOZYME RESISTANCE\n\nSup
 ervisor: D. Sychantha\nCommittee members: J. Honek\, A. Olaitan\n\nTHURSDA
 Y\, OCTOBER 17\, 2024\n2:30 pm\n\nC2-361
DTSTAMP:20260424T055557Z
END:VEVENT
END:VCALENDAR