BEGIN:VCALENDAR
VERSION:2.0
PRODID:-//Drupal iCal API//EN
X-WR-CALNAME:Events items teaser
X-WR-TIMEZONE:America/Toronto
BEGIN:VTIMEZONE
TZID:America/Toronto
X-LIC-LOCATION:America/Toronto
BEGIN:DAYLIGHT
TZNAME:EDT
TZOFFSETFROM:-0500
TZOFFSETTO:-0400
DTSTART:20240310T070000
END:DAYLIGHT
BEGIN:STANDARD
TZNAME:EST
TZOFFSETFROM:-0400
TZOFFSETTO:-0500
DTSTART:20231105T060000
END:STANDARD
END:VTIMEZONE
BEGIN:VEVENT
UID:69e2a87156cab
DTSTART;TZID=America/Toronto:20241021T110000
SEQUENCE:0
TRANSP:TRANSPARENT
DTEND;TZID=America/Toronto:20241021T120000
URL:https://uwaterloo.ca/chemistry/events/chemistry-seminar-series-stephen-
 fletcher
LOCATION:C2 - Chemistry 2 200 University Avenue West Room 361 Waterloo ON N
 2L 3G1 Canada
SUMMARY:Chemistry Seminar Series: Stephen Fletcher
CLASS:PUBLIC
DESCRIPTION:ASYMMETRIC SUZUKI REACTIONS AND AN ORGANIC SUPRAMOLECULAR OSCIL
 LATOR\n\nSTEPHEN FLETCHER\nProfessor\, Department of Chemistry\nUniversity
  of Oxford\n\nMONDAY\, OCTOBER 21\, 2024\n11 a.m.\n\nIN-PERSON (C2-361) AN
 D MS TEAMS
DTSTAMP:20260417T213857Z
END:VEVENT
END:VCALENDAR