BEGIN:VCALENDAR
VERSION:2.0
PRODID:-//Drupal iCal API//EN
X-WR-CALNAME:Events items teaser
X-WR-TIMEZONE:America/Toronto
BEGIN:VTIMEZONE
TZID:America/Toronto
X-LIC-LOCATION:America/Toronto
BEGIN:DAYLIGHT
TZNAME:EDT
TZOFFSETFROM:-0500
TZOFFSETTO:-0400
DTSTART:20240310T070000
END:DAYLIGHT
BEGIN:STANDARD
TZNAME:EST
TZOFFSETFROM:-0400
TZOFFSETTO:-0500
DTSTART:20231105T060000
END:STANDARD
END:VTIMEZONE
BEGIN:VEVENT
UID:69e69cb8660c9
DTSTART;TZID=America/Toronto:20241024T090000
SEQUENCE:0
TRANSP:TRANSPARENT
DTEND;TZID=America/Toronto:20241024T100000
URL:https://uwaterloo.ca/chemistry/events/chemistry-seminar-series-john-f-t
 rant
LOCATION:C2 - Chemistry 2 200 University Avenue West Room 361 Waterloo ON N
 2L 3G1 Canada
SUMMARY:Chemistry Seminar Series: John F. Trant
CLASS:PUBLIC
DESCRIPTION:VERTICAL INTEGRATION: COMBINING COMPUTATIONAL AND EXPERIMENTAL\
 nBIOPHYSICS WITH SYNTHETIC CHEMISTRY AND MOLECULAR BIOLOGY TO DRIVE\nINNOV
 ATION IN CANCER BIOLOGY\n\nJOHN F. TRANT\nAssociate Professor and Faculty 
 of Science Research Chair\nDepartment of Chemistry and Biochemistry\nUnive
 rsity of Windsor\n\nTHURSDAY\, OCTOBER 24\, 2024\n9 a.m.\n\nHYBRID: C2-361
  AND TEAMS
DTSTAMP:20260420T213800Z
END:VEVENT
END:VCALENDAR