BEGIN:VCALENDAR
VERSION:2.0
PRODID:-//Drupal iCal API//EN
X-WR-CALNAME:Events items teaser
X-WR-TIMEZONE:America/Toronto
BEGIN:VTIMEZONE
TZID:America/Toronto
X-LIC-LOCATION:America/Toronto
BEGIN:DAYLIGHT
TZNAME:EDT
TZOFFSETFROM:-0500
TZOFFSETTO:-0400
DTSTART:20240310T070000
END:DAYLIGHT
BEGIN:STANDARD
TZNAME:EST
TZOFFSETFROM:-0400
TZOFFSETTO:-0500
DTSTART:20231105T060000
END:STANDARD
END:VTIMEZONE
BEGIN:VEVENT
UID:69eb1a923c9c0
DTSTART;TZID=America/Toronto:20241031T143000
SEQUENCE:0
TRANSP:TRANSPARENT
DTEND;TZID=America/Toronto:20241031T160000
URL:https://uwaterloo.ca/chemistry/events/masters-seminar-felipe-martinez
SUMMARY:Master's Seminar - Felipe Martinez
CLASS:PUBLIC
DESCRIPTION:FACILITATING CONVERSION OF ALUMINUM SILICIDE TO INTERMETALLIC\n
 COMPOUNDS\n\nSupervisor: R. Smith\nCommittee members: H. Kleinke\, K. Daun
 \n\nTHURSDAY\, OCTOBER 31\, 2024\n2:30 pm\n\nC2-278
DTSTAMP:20260424T072402Z
END:VEVENT
END:VCALENDAR