BEGIN:VCALENDAR
VERSION:2.0
PRODID:-//Drupal iCal API//EN
X-WR-CALNAME:Events items teaser
X-WR-TIMEZONE:America/Toronto
BEGIN:VTIMEZONE
TZID:America/Toronto
X-LIC-LOCATION:America/Toronto
BEGIN:DAYLIGHT
TZNAME:EDT
TZOFFSETFROM:-0500
TZOFFSETTO:-0400
DTSTART:20240310T070000
END:DAYLIGHT
BEGIN:STANDARD
TZNAME:EST
TZOFFSETFROM:-0400
TZOFFSETTO:-0500
DTSTART:20241103T060000
END:STANDARD
END:VTIMEZONE
BEGIN:VEVENT
UID:69e98767986d1
DTSTART;TZID=America/Toronto:20241104T110000
SEQUENCE:0
TRANSP:TRANSPARENT
DTEND;TZID=America/Toronto:20241104T120000
URL:https://uwaterloo.ca/chemistry/events/chemistry-seminar-series-julia-tu
 rner
LOCATION:C2 - Chemistry 2 200 University Avenue West Room 361 Waterloo ON N
 2L 3G1 Canada
SUMMARY:Chemistry Seminar Series: Julia Turner
CLASS:PUBLIC
DESCRIPTION:RADICAL-MEDIATED TRANSFORMATIONS OF CARBOHYDRATES ENABLED BY\nP
 HOTOREDOX AND HYDROGEN ATOM TRANSFER\n\nJULIA TURNER\nPostdoctoral Fellow\
 , Department of Chemistry\nUniversity of Utah\n\nMONDAY\, NOVEMBER 4\, 202
 4\n11 a.m.\n\nHYBRID: C2-361 AND TEAMS
DTSTAMP:20260423T024351Z
END:VEVENT
END:VCALENDAR