BEGIN:VCALENDAR
VERSION:2.0
PRODID:-//Drupal iCal API//EN
X-WR-CALNAME:Events items teaser
X-WR-TIMEZONE:America/Toronto
BEGIN:VTIMEZONE
TZID:America/Toronto
X-LIC-LOCATION:America/Toronto
BEGIN:DAYLIGHT
TZNAME:EDT
TZOFFSETFROM:-0500
TZOFFSETTO:-0400
DTSTART:20240310T070000
END:DAYLIGHT
BEGIN:STANDARD
TZNAME:EST
TZOFFSETFROM:-0400
TZOFFSETTO:-0500
DTSTART:20241103T060000
END:STANDARD
END:VTIMEZONE
BEGIN:VEVENT
UID:69eaa8fb99b61
DTSTART;TZID=America/Toronto:20241212T100000
SEQUENCE:0
TRANSP:TRANSPARENT
DTEND;TZID=America/Toronto:20241212T120000
URL:https://uwaterloo.ca/chemistry/events/masters-thesis-defence-nyhenflore
 -delva
SUMMARY:Master's Thesis Defence - Nyhenflore Delva
CLASS:PUBLIC
DESCRIPTION:THE DEVELOPMENT OF ELECTROCHEMICAL SYSTEMS FOR THE OXIDATION OF
 \nORGANIC CONTAMINANTS FOR WATER TREATMENT\n\nSUPERVISOR: A. KLINKOVA\n\nT
 HURSDAY\, DECEMBER 12\, 2024\n\n10:00 AM\n\nIN-PERSON: EIT-2053
DTSTAMP:20260423T231923Z
END:VEVENT
END:VCALENDAR