BEGIN:VCALENDAR
VERSION:2.0
PRODID:-//Drupal iCal API//EN
X-WR-CALNAME:Events items teaser
X-WR-TIMEZONE:America/Toronto
BEGIN:VTIMEZONE
TZID:America/Toronto
X-LIC-LOCATION:America/Toronto
BEGIN:DAYLIGHT
TZNAME:EDT
TZOFFSETFROM:-0500
TZOFFSETTO:-0400
DTSTART:20240310T070000
END:DAYLIGHT
BEGIN:STANDARD
TZNAME:EST
TZOFFSETFROM:-0400
TZOFFSETTO:-0500
DTSTART:20241103T060000
END:STANDARD
END:VTIMEZONE
BEGIN:VEVENT
UID:69eac07a3ab8e
DTSTART;TZID=America/Toronto:20250121T143000
SEQUENCE:0
TRANSP:TRANSPARENT
DTEND;TZID=America/Toronto:20250121T160000
URL:https://uwaterloo.ca/chemistry/events/masters-seminar-jackson-schuler
SUMMARY:Master's Seminar - Jackson Schuler
CLASS:PUBLIC
DESCRIPTION:NOVEL SOLID ELECTROLYTES FOR ALL-SOLID-STATE SODIUM BATTERIES\n
 \nSupervisor: L. Nazar\nCommittee members: A. Klinkova\, H. Kleinke\n\nTUE
 SDAY\, JANUARY 21\, 2025\n2:30 pm\n\nC2-361
DTSTAMP:20260424T005938Z
END:VEVENT
END:VCALENDAR