BEGIN:VCALENDAR
VERSION:2.0
PRODID:-//Drupal iCal API//EN
X-WR-CALNAME:Events items teaser
X-WR-TIMEZONE:America/Toronto
BEGIN:VTIMEZONE
TZID:America/Toronto
X-LIC-LOCATION:America/Toronto
BEGIN:DAYLIGHT
TZNAME:EDT
TZOFFSETFROM:-0500
TZOFFSETTO:-0400
DTSTART:20240310T070000
END:DAYLIGHT
BEGIN:STANDARD
TZNAME:EST
TZOFFSETFROM:-0400
TZOFFSETTO:-0500
DTSTART:20241103T060000
END:STANDARD
END:VTIMEZONE
BEGIN:VEVENT
UID:69ea0ef77fdd7
DTSTART;TZID=America/Toronto:20250130T143000
SEQUENCE:0
TRANSP:TRANSPARENT
DTEND;TZID=America/Toronto:20250130T160000
URL:https://uwaterloo.ca/chemistry/events/masters-seminar-michael-mccarvell
SUMMARY:Master's Seminar - Michael McCarvell
CLASS:PUBLIC
DESCRIPTION:USING SPINEL TO SEPARATE THE EFFECTS OF OXIDATION STATE AND GEO
 METRY\nIN X-RAY ABSORPTION SPECTROSCOPY\n\nSupervisor: R. Smith\nCommittee
  members: H. Kleinke\, L. Nazar\n\nTHURSDAY\, JANUARY 30\, 2025\n2:30 pm\n
 \nC2-361
DTSTAMP:20260423T122215Z
END:VEVENT
END:VCALENDAR