BEGIN:VCALENDAR
VERSION:2.0
PRODID:-//Drupal iCal API//EN
X-WR-CALNAME:Events items teaser
X-WR-TIMEZONE:America/Toronto
BEGIN:VTIMEZONE
TZID:America/Toronto
X-LIC-LOCATION:America/Toronto
BEGIN:DAYLIGHT
TZNAME:EDT
TZOFFSETFROM:-0500
TZOFFSETTO:-0400
DTSTART:20240310T070000
END:DAYLIGHT
BEGIN:STANDARD
TZNAME:EST
TZOFFSETFROM:-0400
TZOFFSETTO:-0500
DTSTART:20241103T060000
END:STANDARD
END:VTIMEZONE
BEGIN:VEVENT
UID:69ea0effe0b94
DTSTART;TZID=America/Toronto:20250122T090000
SEQUENCE:0
TRANSP:TRANSPARENT
DTEND;TZID=America/Toronto:20250122T100000
URL:https://uwaterloo.ca/chemistry/events/optimizing-ion-throughput-and-sep
 aration-efficiency-robust
LOCATION:C2 - Chemistry 2 200 University Avenue West Room 361 Waterloo ON N
 2L 3G1 Canada
SUMMARY:Optimizing Ion Throughput and Separation Efficiency for Robust Ion\
 nChemistry in Planar Ion Guides
CLASS:PUBLIC
DESCRIPTION:Optimizing Ion Throughput and Separation Efficiency for\nRobust
  Ion Chemistry in Planar Ion Guides\n\nBrian Clowers\nProfessor of Chemist
 ry\, Department of Chemistry\nWashington State University\n \nWednesday J
 anuary 22\, 2025\n9:00 – 10:00 a.m.\nC2-361 (Reading Room) and MS Teams\
 n 
DTSTAMP:20260423T122223Z
END:VEVENT
END:VCALENDAR