BEGIN:VCALENDAR
VERSION:2.0
PRODID:-//Drupal iCal API//EN
X-WR-CALNAME:Events items teaser
X-WR-TIMEZONE:America/Toronto
BEGIN:VTIMEZONE
TZID:America/Toronto
X-LIC-LOCATION:America/Toronto
BEGIN:DAYLIGHT
TZNAME:EDT
TZOFFSETFROM:-0500
TZOFFSETTO:-0400
DTSTART:20240310T070000
END:DAYLIGHT
BEGIN:STANDARD
TZNAME:EST
TZOFFSETFROM:-0400
TZOFFSETTO:-0500
DTSTART:20241103T060000
END:STANDARD
END:VTIMEZONE
BEGIN:VEVENT
UID:69ea0ef469b27
DTSTART;TZID=America/Toronto:20250206T160000
SEQUENCE:0
TRANSP:TRANSPARENT
DTEND;TZID=America/Toronto:20250206T173000
URL:https://uwaterloo.ca/chemistry/events/masters-seminar-kelvin-doan
SUMMARY:Master's Seminar - Kelvin Doan
CLASS:PUBLIC
DESCRIPTION:SYSTEMATIC SYNTHESIS OF EXSOLVED NANOPARTICLES ON PEROVSKITE OX
 IDES\n\nSupervisor: R. Smith\nCommittee members: L. Nazar\, V. Maheshwari\
 n\nTHURSDAY\, FEBRUARY 6\, 2025\n4 pm\n\nC2-361
DTSTAMP:20260423T122212Z
END:VEVENT
END:VCALENDAR