BEGIN:VCALENDAR
VERSION:2.0
PRODID:-//Drupal iCal API//EN
X-WR-CALNAME:Events items teaser
X-WR-TIMEZONE:America/Toronto
BEGIN:VTIMEZONE
TZID:America/Toronto
X-LIC-LOCATION:America/Toronto
BEGIN:DAYLIGHT
TZNAME:EDT
TZOFFSETFROM:-0500
TZOFFSETTO:-0400
DTSTART:20240310T070000
END:DAYLIGHT
BEGIN:STANDARD
TZNAME:EST
TZOFFSETFROM:-0400
TZOFFSETTO:-0500
DTSTART:20241103T060000
END:STANDARD
END:VTIMEZONE
BEGIN:VEVENT
UID:69e91a92a0224
DTSTART;TZID=America/Toronto:20250211T143000
SEQUENCE:0
TRANSP:TRANSPARENT
DTEND;TZID=America/Toronto:20250211T160000
URL:https://uwaterloo.ca/chemistry/events/masters-seminar-victor-charette
SUMMARY:Master's Seminar - Victor Charette
CLASS:PUBLIC
DESCRIPTION:TOTAL SYNTHESIS OF THE ANTIBIOTIC PEPTIDE\, OLENAMIDONIN B\n\nS
 upervisor: S. Taylor\nCommittee members: G. Murphy\, D. Sychantha\n\nTUESD
 AY\, FEBRUARY 11\, 2025\n2:30 pm\n\nC2-361
DTSTAMP:20260422T185930Z
END:VEVENT
END:VCALENDAR