BEGIN:VCALENDAR
VERSION:2.0
PRODID:-//Drupal iCal API//EN
X-WR-CALNAME:Events items teaser
X-WR-TIMEZONE:America/Toronto
BEGIN:VTIMEZONE
TZID:America/Toronto
X-LIC-LOCATION:America/Toronto
BEGIN:DAYLIGHT
TZNAME:EDT
TZOFFSETFROM:-0500
TZOFFSETTO:-0400
DTSTART:20250309T070000
END:DAYLIGHT
BEGIN:STANDARD
TZNAME:EST
TZOFFSETFROM:-0400
TZOFFSETTO:-0500
DTSTART:20241103T060000
END:STANDARD
END:VTIMEZONE
BEGIN:VEVENT
UID:69eaa8fd1265f
DTSTART;TZID=America/Toronto:20250407T143000
SEQUENCE:0
TRANSP:TRANSPARENT
DTEND;TZID=America/Toronto:20250407T160000
URL:https://uwaterloo.ca/chemistry/events/masters-seminar-toby-mcconville
SUMMARY:Master's Seminar - Toby McConville
CLASS:PUBLIC
DESCRIPTION:COMPUTATIONAL ANALYSIS OF OXYGEN DIFFUSION IN SOLID OXIDE ELECT
 ROLYSIS\nCELLS (SOECS)\n\nSupervisor: C Tetsassi Feugmo\nCommittee members
 : P.N. Roy\, L. Chen\n\nMONDAY\, APRIL 7\, 2025\n2:30 pm\n\nC2-361
DTSTAMP:20260423T231925Z
END:VEVENT
END:VCALENDAR