BEGIN:VCALENDAR
VERSION:2.0
PRODID:-//Drupal iCal API//EN
X-WR-CALNAME:Events items teaser
X-WR-TIMEZONE:America/Toronto
BEGIN:VTIMEZONE
TZID:America/Toronto
X-LIC-LOCATION:America/Toronto
BEGIN:DAYLIGHT
TZNAME:EDT
TZOFFSETFROM:-0500
TZOFFSETTO:-0400
DTSTART:20240310T070000
END:DAYLIGHT
BEGIN:STANDARD
TZNAME:EST
TZOFFSETFROM:-0400
TZOFFSETTO:-0500
DTSTART:20241103T060000
END:STANDARD
END:VTIMEZONE
BEGIN:VEVENT
UID:69ea63b13cf7b
DTSTART;TZID=America/Toronto:20250218T143000
SEQUENCE:0
TRANSP:TRANSPARENT
DTEND;TZID=America/Toronto:20250218T160000
URL:https://uwaterloo.ca/chemistry/events/masters-seminar-tristan-licskai
SUMMARY:Master's Seminar - Tristan Licskai
CLASS:PUBLIC
DESCRIPTION:NONLINEAR OPTICS OF CHALCOGENIDES AND OXYCHALCOGENIDES\n\nSuper
 visor: H. Kleinke\nCommittee members: P. Radovanovic\, V. Maheshwari\n\nTU
 ESDAY\, FEBRUARY 18\, 2025\n2:30 pm\n\nC2-361
DTSTAMP:20260423T182345Z
END:VEVENT
END:VCALENDAR