BEGIN:VCALENDAR
VERSION:2.0
PRODID:-//Drupal iCal API//EN
X-WR-CALNAME:Events items teaser
X-WR-TIMEZONE:America/Toronto
BEGIN:VTIMEZONE
TZID:America/Toronto
X-LIC-LOCATION:America/Toronto
BEGIN:DAYLIGHT
TZNAME:EDT
TZOFFSETFROM:-0500
TZOFFSETTO:-0400
DTSTART:20240310T070000
END:DAYLIGHT
BEGIN:STANDARD
TZNAME:EST
TZOFFSETFROM:-0400
TZOFFSETTO:-0500
DTSTART:20241103T060000
END:STANDARD
END:VTIMEZONE
BEGIN:VEVENT
UID:69ea0ef1dff86
DTSTART;TZID=America/Toronto:20250220T143000
SEQUENCE:0
TRANSP:TRANSPARENT
DTEND;TZID=America/Toronto:20250220T160000
URL:https://uwaterloo.ca/chemistry/events/masters-seminar-katherine-tschirh
 art
SUMMARY:Master's Seminar - Katherine Tschirhart
CLASS:PUBLIC
DESCRIPTION:COMPARATIVE ANALYSIS OF DISINFECTION BYPRODUCTS (DBPS) FORMATIO
 N IN\nDRINKING WATER: A LOCAL CASE STUDY OF TWO DIFFERENT TREATMENT METHOD
 S\n\nSupervisor: S. Hopkins\nCommittee members: R. Marta\, M. Arlos\n\nTHU
 RSDAY\, FEBRUARY 20\, 2025\n2:30 pm\n\nC2-361
DTSTAMP:20260423T122209Z
END:VEVENT
END:VCALENDAR