BEGIN:VCALENDAR
VERSION:2.0
PRODID:-//Drupal iCal API//EN
X-WR-CALNAME:Events items teaser
X-WR-TIMEZONE:America/Toronto
BEGIN:VTIMEZONE
TZID:America/Toronto
X-LIC-LOCATION:America/Toronto
BEGIN:DAYLIGHT
TZNAME:EDT
TZOFFSETFROM:-0500
TZOFFSETTO:-0400
DTSTART:20240310T070000
END:DAYLIGHT
BEGIN:STANDARD
TZNAME:EST
TZOFFSETFROM:-0400
TZOFFSETTO:-0500
DTSTART:20241103T060000
END:STANDARD
END:VTIMEZONE
BEGIN:VEVENT
UID:69ea0ef3e232b
DTSTART;TZID=America/Toronto:20250225T123000
SEQUENCE:0
TRANSP:TRANSPARENT
DTEND;TZID=America/Toronto:20250225T140000
URL:https://uwaterloo.ca/chemistry/events/masters-seminar-annie-li
SUMMARY:Master's Seminar - Annie Li
CLASS:PUBLIC
DESCRIPTION:GEMINAL DISUBSTITUTION EFFECTS ON LEWIS ACIDIC IODOLIUM SALTS F
 OR\nCATALYSIS\n\nSupervisor: G. Murphy\nCommittee members: E. Fillion\, M.
  Chong\n\nTUESDAY\, FEBRUARY 25\, 2025\n12:30 pm\n\nC2-361
DTSTAMP:20260423T122211Z
END:VEVENT
END:VCALENDAR