BEGIN:VCALENDAR
VERSION:2.0
PRODID:-//Drupal iCal API//EN
X-WR-CALNAME:Events items teaser
X-WR-TIMEZONE:America/Toronto
BEGIN:VTIMEZONE
TZID:America/Toronto
X-LIC-LOCATION:America/Toronto
BEGIN:DAYLIGHT
TZNAME:EDT
TZOFFSETFROM:-0500
TZOFFSETTO:-0400
DTSTART:20240310T070000
END:DAYLIGHT
BEGIN:STANDARD
TZNAME:EST
TZOFFSETFROM:-0400
TZOFFSETTO:-0500
DTSTART:20241103T060000
END:STANDARD
END:VTIMEZONE
BEGIN:VEVENT
UID:69e9b7bba9507
DTSTART;TZID=America/Toronto:20250306T153000
SEQUENCE:0
TRANSP:TRANSPARENT
DTEND;TZID=America/Toronto:20250306T170000
URL:https://uwaterloo.ca/chemistry/events/masters-seminar-yujie-liu
SUMMARY:Master's Seminar - Yujie Liu
CLASS:PUBLIC
DESCRIPTION:POLYMER NANOREACTORS FOR METAL NANOSHELLS SYNTHESIS\n\nSupervis
 or: A. Klinkova\nCommittee members: Y. Lin\, G. Sciaini\n\nTHURSDAY\, MARC
 H 6\, 2025\n3:30 pm\n\nC2-361
DTSTAMP:20260423T061003Z
END:VEVENT
END:VCALENDAR