BEGIN:VCALENDAR
VERSION:2.0
PRODID:-//Drupal iCal API//EN
X-WR-CALNAME:Events items teaser
X-WR-TIMEZONE:America/Toronto
BEGIN:VTIMEZONE
TZID:America/Toronto
X-LIC-LOCATION:America/Toronto
BEGIN:DAYLIGHT
TZNAME:EDT
TZOFFSETFROM:-0500
TZOFFSETTO:-0400
DTSTART:20250309T070000
END:DAYLIGHT
BEGIN:STANDARD
TZNAME:EST
TZOFFSETFROM:-0400
TZOFFSETTO:-0500
DTSTART:20241103T060000
END:STANDARD
END:VTIMEZONE
BEGIN:VEVENT
UID:69ea0f0c1e15b
DTSTART;TZID=America/Toronto:20250411T143000
SEQUENCE:0
TRANSP:TRANSPARENT
DTEND;TZID=America/Toronto:20250411T160000
URL:https://uwaterloo.ca/chemistry/events/masters-seminar-ajay-dass
SUMMARY:Master's Seminar - Ajay Dass
CLASS:PUBLIC
DESCRIPTION:TUNING NANO-CONFINED WATER DISTANCE THROUGH THE INTRODUCTION OF
  INERT\nPARTICLES\n\nSupervisor: P.N. Roy\nCommittee members: C. Tetsassi 
 Feugmo\, M. Nooijen\n\nFRIDAY\, APRIL 11\, 2025\n2:30 pm\n\nC2-361
DTSTAMP:20260423T122236Z
END:VEVENT
END:VCALENDAR