BEGIN:VCALENDAR
VERSION:2.0
PRODID:-//Drupal iCal API//EN
X-WR-CALNAME:Events items teaser
X-WR-TIMEZONE:America/Toronto
BEGIN:VTIMEZONE
TZID:America/Toronto
X-LIC-LOCATION:America/Toronto
BEGIN:DAYLIGHT
TZNAME:EDT
TZOFFSETFROM:-0500
TZOFFSETTO:-0400
DTSTART:20250309T070000
END:DAYLIGHT
BEGIN:STANDARD
TZNAME:EST
TZOFFSETFROM:-0400
TZOFFSETTO:-0500
DTSTART:20241103T060000
END:STANDARD
END:VTIMEZONE
BEGIN:VEVENT
UID:69e9b7bb35b67
DTSTART;TZID=America/Toronto:20250313T130000
SEQUENCE:0
TRANSP:TRANSPARENT
DTEND;TZID=America/Toronto:20250313T143000
URL:https://uwaterloo.ca/chemistry/events/masters-seminar-pedro-rodriguez-c
 ruz
SUMMARY:Master's Seminar - Pedro Rodriguez Cruz
CLASS:PUBLIC
DESCRIPTION:INTRINSICALLY DISORDERD PROTEINS IN BACTERIAL INCLUSION BODIES\
 n\nSupervisor: E. Meiering\nCommittee members: T. Dieckmann\, D. O'Flahert
 y\n\nTHURSDAY\, MARCH 13\, 2025\n1 pm\n\nC2-278
DTSTAMP:20260423T061003Z
END:VEVENT
END:VCALENDAR