BEGIN:VCALENDAR
VERSION:2.0
PRODID:-//Drupal iCal API//EN
X-WR-CALNAME:Events items teaser
X-WR-TIMEZONE:America/Toronto
BEGIN:VTIMEZONE
TZID:America/Toronto
X-LIC-LOCATION:America/Toronto
BEGIN:DAYLIGHT
TZNAME:EDT
TZOFFSETFROM:-0500
TZOFFSETTO:-0400
DTSTART:20240310T070000
END:DAYLIGHT
BEGIN:STANDARD
TZNAME:EST
TZOFFSETFROM:-0400
TZOFFSETTO:-0500
DTSTART:20241103T060000
END:STANDARD
END:VTIMEZONE
BEGIN:VEVENT
UID:69e9b7bc21b09
DTSTART;TZID=America/Toronto:20250218T110000
SEQUENCE:0
TRANSP:TRANSPARENT
DTEND;TZID=America/Toronto:20250218T120000
URL:https://uwaterloo.ca/chemistry/events/event-cancelled-chemistry-seminar
 -series-adam-shuhendler
LOCATION:C2 - Chemistry 2 361 (reading room) 200 University Avenue West Wat
 erloo ON N2L 3G1 Canada
SUMMARY:EVENT CANCELLED Chemistry Seminar Series: Adam Shuhendler
CLASS:PUBLIC
DESCRIPTION:NANOSCALE SENTINELS AND MOLECULAR BEACONS: ILLUMINATING DISEASE
  FROM\nTHE INSIDE OUT\n\nADAM SHUHENDLER\nProfessor\, Department of Chemis
 try and Biomolecular Sciences\, Faculty\nof Science\nUniversity of Ottawa 
 Heart Institute\n\nTUESDAY\, FEBRUARY 18\, 2025\n11:00 a.m. EVENT CANCELL
 ED\n\nC2-361 (READING ROOM)
DTSTAMP:20260423T061004Z
END:VEVENT
END:VCALENDAR