BEGIN:VCALENDAR
VERSION:2.0
PRODID:-//Drupal iCal API//EN
X-WR-CALNAME:Events items teaser
X-WR-TIMEZONE:America/Toronto
BEGIN:VTIMEZONE
TZID:America/Toronto
X-LIC-LOCATION:America/Toronto
BEGIN:DAYLIGHT
TZNAME:EDT
TZOFFSETFROM:-0500
TZOFFSETTO:-0400
DTSTART:20250309T070000
END:DAYLIGHT
BEGIN:STANDARD
TZNAME:EST
TZOFFSETFROM:-0400
TZOFFSETTO:-0500
DTSTART:20241103T060000
END:STANDARD
END:VTIMEZONE
BEGIN:VEVENT
UID:69e9b7b7a7168
DTSTART;TZID=America/Toronto:20250318T143000
SEQUENCE:0
TRANSP:TRANSPARENT
DTEND;TZID=America/Toronto:20250318T160000
URL:https://uwaterloo.ca/chemistry/events/masters-seminar-yifan-dong
SUMMARY:Master's Seminar - Yifan Dong
CLASS:PUBLIC
DESCRIPTION:LUMINESCENCE AND MAGNETIC PROPERTIES OF INORGANIC PEROVSKITE\nN
 ANOCRYSTALS\n\nSupervisor: P. Radovanovic\nCommittee members: R. Smith\, G
 . Sciaini\n\nTUESDAY\, MARCH 18\, 2025\n2:30 pm\n\nC2-361
DTSTAMP:20260423T060959Z
END:VEVENT
END:VCALENDAR