BEGIN:VCALENDAR
VERSION:2.0
PRODID:-//Drupal iCal API//EN
X-WR-CALNAME:Events items teaser
X-WR-TIMEZONE:America/Toronto
BEGIN:VTIMEZONE
TZID:America/Toronto
X-LIC-LOCATION:America/Toronto
BEGIN:DAYLIGHT
TZNAME:EDT
TZOFFSETFROM:-0500
TZOFFSETTO:-0400
DTSTART:20250309T070000
END:DAYLIGHT
BEGIN:STANDARD
TZNAME:EST
TZOFFSETFROM:-0400
TZOFFSETTO:-0500
DTSTART:20241103T060000
END:STANDARD
END:VTIMEZONE
BEGIN:VEVENT
UID:69ea0efd705ba
DTSTART;TZID=America/Toronto:20250320T143000
SEQUENCE:0
TRANSP:TRANSPARENT
DTEND;TZID=America/Toronto:20250320T160000
URL:https://uwaterloo.ca/chemistry/events/masters-seminar-dion-grobe
SUMMARY:Master's Seminar - Dion Grobe
CLASS:PUBLIC
DESCRIPTION:DISORDERED ROCK SALT CATHODES FOR INEXPENSIVE HIGH ENERGY DENSI
 TY ALL-\nSOLID-STATE BATTERIES\n\nSupervisor: L. Nazar\nCommittee members:
  R. Smith\, H. Kleinke\, Y. Lin\n\nTHURSDAY\, MARCH 20\, 2025\n2:30 pm\n\n
 C2-361
DTSTAMP:20260423T122221Z
END:VEVENT
END:VCALENDAR