BEGIN:VCALENDAR
VERSION:2.0
PRODID:-//Drupal iCal API//EN
X-WR-CALNAME:Events items teaser
X-WR-TIMEZONE:America/Toronto
BEGIN:VTIMEZONE
TZID:America/Toronto
X-LIC-LOCATION:America/Toronto
BEGIN:DAYLIGHT
TZNAME:EDT
TZOFFSETFROM:-0500
TZOFFSETTO:-0400
DTSTART:20250309T070000
END:DAYLIGHT
BEGIN:STANDARD
TZNAME:EST
TZOFFSETFROM:-0400
TZOFFSETTO:-0500
DTSTART:20241103T060000
END:STANDARD
END:VTIMEZONE
BEGIN:VEVENT
UID:69e987692316b
DTSTART;TZID=America/Toronto:20250327T143000
SEQUENCE:0
TRANSP:TRANSPARENT
DTEND;TZID=America/Toronto:20250327T160000
URL:https://uwaterloo.ca/chemistry/events/masters-seminar-urszula-mastej
SUMMARY:Master's Seminar - Urszula Mastej
CLASS:PUBLIC
DESCRIPTION:SURFACE-ENHANCED RAMAN SCATTERING NANOPARTICLES FOR LIVE MULTIP
 LEXED\nIMAGING\n\nSupervisor: J-H. Yu\nCommittee members: J. Liu\, A. Klin
 kova\, M. Poudineh\n\nTHURSDAY\, MARCH 27\, 2025\n2:30 pm\n\nC2-361
DTSTAMP:20260423T024353Z
END:VEVENT
END:VCALENDAR