BEGIN:VCALENDAR
VERSION:2.0
PRODID:-//Drupal iCal API//EN
X-WR-CALNAME:Events items teaser
X-WR-TIMEZONE:America/Toronto
BEGIN:VTIMEZONE
TZID:America/Toronto
X-LIC-LOCATION:America/Toronto
BEGIN:DAYLIGHT
TZNAME:EDT
TZOFFSETFROM:-0500
TZOFFSETTO:-0400
DTSTART:20250309T070000
END:DAYLIGHT
BEGIN:STANDARD
TZNAME:EST
TZOFFSETFROM:-0400
TZOFFSETTO:-0500
DTSTART:20241103T060000
END:STANDARD
END:VTIMEZONE
BEGIN:VEVENT
UID:69e9876aa0113
DTSTART;TZID=America/Toronto:20250328T143000
SEQUENCE:0
TRANSP:TRANSPARENT
DTEND;TZID=America/Toronto:20250328T160000
URL:https://uwaterloo.ca/chemistry/events/masters-seminar-nurofarid-khasanz
 oda
SUMMARY:Master's Seminar - Nurofarid Khasanzoda
CLASS:PUBLIC
DESCRIPTION:PREPARATION OF FLUORINATED PHENANTHRENES USING HYPERVALENT IODI
 NE\n\nSupervisor: G. Murphy\nCommittee members: M. Chong\, D. Schipper\n\n
 FRIDAY\, MARCH 28\, 2025\n2:30 pm\n\nC2-361
DTSTAMP:20260423T024354Z
END:VEVENT
END:VCALENDAR