BEGIN:VCALENDAR
VERSION:2.0
PRODID:-//Drupal iCal API//EN
X-WR-CALNAME:Events items teaser
X-WR-TIMEZONE:America/Toronto
BEGIN:VTIMEZONE
TZID:America/Toronto
X-LIC-LOCATION:America/Toronto
BEGIN:DAYLIGHT
TZNAME:EDT
TZOFFSETFROM:-0500
TZOFFSETTO:-0400
DTSTART:20250309T070000
END:DAYLIGHT
BEGIN:STANDARD
TZNAME:EST
TZOFFSETFROM:-0400
TZOFFSETTO:-0500
DTSTART:20241103T060000
END:STANDARD
END:VTIMEZONE
BEGIN:VEVENT
UID:69e9876723399
DTSTART;TZID=America/Toronto:20250401T100000
SEQUENCE:0
TRANSP:TRANSPARENT
DTEND;TZID=America/Toronto:20250401T113000
URL:https://uwaterloo.ca/chemistry/events/masters-seminar-oliver-song
SUMMARY:Master's Seminar - Oliver Song
CLASS:PUBLIC
DESCRIPTION:HYDROPHOBIC HYDRATION AND SELF-ASSEMBLY OF PHOSPHINE MOLECULES\
 n\nSupervisor: X. Wang\nCommittee members: V. Maheshwari\, J. Liu\n\nTUESD
 AY\, APRIL 1\, 2025\n10:00 am\n\nC2-361
DTSTAMP:20260423T024351Z
END:VEVENT
END:VCALENDAR