BEGIN:VCALENDAR
VERSION:2.0
PRODID:-//Drupal iCal API//EN
X-WR-CALNAME:Events items teaser
X-WR-TIMEZONE:America/Toronto
BEGIN:VTIMEZONE
TZID:America/Toronto
X-LIC-LOCATION:America/Toronto
BEGIN:DAYLIGHT
TZNAME:EDT
TZOFFSETFROM:-0500
TZOFFSETTO:-0400
DTSTART:20250309T070000
END:DAYLIGHT
BEGIN:STANDARD
TZNAME:EST
TZOFFSETFROM:-0400
TZOFFSETTO:-0500
DTSTART:20241103T060000
END:STANDARD
END:VTIMEZONE
BEGIN:VEVENT
UID:69e987688f426
DTSTART;TZID=America/Toronto:20250403T110000
SEQUENCE:0
TRANSP:TRANSPARENT
DTEND;TZID=America/Toronto:20250403T123000
URL:https://uwaterloo.ca/chemistry/events/masters-seminar-amira-kamel
SUMMARY:Master's Seminar - Amira Kamel
CLASS:PUBLIC
DESCRIPTION:APTAMER SELECTION FOR CARBAMAZEPINE QUANTIFICATION\n\nSuperviso
 r: J. Liu\nCommittee members: S. Kalyaanamoorthy\, M. Poudineh\n\nTHURSDAY
 \, APRIL 3\, 2025\n11:00 am\n\nC2-361
DTSTAMP:20260423T024352Z
END:VEVENT
END:VCALENDAR