BEGIN:VCALENDAR
VERSION:2.0
PRODID:-//Drupal iCal API//EN
X-WR-CALNAME:Events items teaser
X-WR-TIMEZONE:America/Toronto
BEGIN:VTIMEZONE
TZID:America/Toronto
X-LIC-LOCATION:America/Toronto
BEGIN:DAYLIGHT
TZNAME:EDT
TZOFFSETFROM:-0500
TZOFFSETTO:-0400
DTSTART:20250309T070000
END:DAYLIGHT
BEGIN:STANDARD
TZNAME:EST
TZOFFSETFROM:-0400
TZOFFSETTO:-0500
DTSTART:20241103T060000
END:STANDARD
END:VTIMEZONE
BEGIN:VEVENT
UID:69eb60489c20f
DTSTART;TZID=America/Toronto:20250410T143000
SEQUENCE:0
TRANSP:TRANSPARENT
DTEND;TZID=America/Toronto:20250410T160000
URL:https://uwaterloo.ca/chemistry/events/masters-seminar-nathania-lui
SUMMARY:Master's Seminar - Nathania Lui
CLASS:PUBLIC
DESCRIPTION:SINGLE ROUND SELEX FOR CANCER CELL PROFILING\n\nSupervisor: J. 
 Liu\nCommittee members: T. Dieckmann\, S. Tang\n\nTHURSDAY\, APRIL 10\, 20
 25\n2:30 pm\n\nC2-361
DTSTAMP:20260424T122128Z
END:VEVENT
END:VCALENDAR