BEGIN:VCALENDAR
VERSION:2.0
PRODID:-//Drupal iCal API//EN
X-WR-CALNAME:Events items teaser
X-WR-TIMEZONE:America/Toronto
BEGIN:VTIMEZONE
TZID:America/Toronto
X-LIC-LOCATION:America/Toronto
BEGIN:DAYLIGHT
TZNAME:EDT
TZOFFSETFROM:-0500
TZOFFSETTO:-0400
DTSTART:20240310T070000
END:DAYLIGHT
BEGIN:STANDARD
TZNAME:EST
TZOFFSETFROM:-0400
TZOFFSETTO:-0500
DTSTART:20241103T060000
END:STANDARD
END:VTIMEZONE
BEGIN:VEVENT
UID:69e987681bc0b
DTSTART;TZID=America/Toronto:20250307T140000
SEQUENCE:0
TRANSP:TRANSPARENT
DTEND;TZID=America/Toronto:20250307T160000
URL:https://uwaterloo.ca/chemistry/events/masters-thesis-defence-amanda-rat
 to
SUMMARY:Master's Thesis Defence - Amanda Ratto
CLASS:PUBLIC
DESCRIPTION:DEVELOPMENT OF NOVEL HUMAN AGGRECANSE-2 DUAL-BINDING BIS-SQUARA
 MIDE\nINHIBITORS\n\nSUPERVISOR: J. HONEK\n\nFRIDAY\, MARCH 7\, 2025\n\n2:0
 0 PM\n\nIN-PERSON: C2-361
DTSTAMP:20260423T024352Z
END:VEVENT
END:VCALENDAR