BEGIN:VCALENDAR
VERSION:2.0
PRODID:-//Drupal iCal API//EN
X-WR-CALNAME:Events items teaser
X-WR-TIMEZONE:America/Toronto
BEGIN:VTIMEZONE
TZID:America/Toronto
X-LIC-LOCATION:America/Toronto
BEGIN:DAYLIGHT
TZNAME:EDT
TZOFFSETFROM:-0500
TZOFFSETTO:-0400
DTSTART:20250309T070000
END:DAYLIGHT
BEGIN:STANDARD
TZNAME:EST
TZOFFSETFROM:-0400
TZOFFSETTO:-0500
DTSTART:20241103T060000
END:STANDARD
END:VTIMEZONE
BEGIN:VEVENT
UID:69e9404ed9e2b
DTSTART;TZID=America/Toronto:20250502T130000
SEQUENCE:0
TRANSP:TRANSPARENT
DTEND;TZID=America/Toronto:20250502T130000
URL:https://uwaterloo.ca/chemistry/events/2025-gwc2-annual-meeting-speaker-
 poster-and-awards
SUMMARY:2025 (GWC)2 Annual Meeting\, Speaker\, Poster and Awards Presentati
 on
CLASS:PUBLIC
DESCRIPTION:GWC2 Faculty\, Graduate Students\, Postdoctoral Fellows and\nS
 taff\, please come out and join us for some or all of the following\neven
 ts on:\n\nFRIDAY\, MAY 2\, 2025 \n\nGUELPH CAMPUS ROZANSKI HALL &amp; BULLRIN
 G\n\n_PLEASE NOTE: The PhD seminar winner presentations\, Annual General\
 nMeeting and Prof. Tang talk will be in-person (Rozanski Hall\, room\n102)
  and via Teams. The poster judging and awards\npresentation/reception will
  be in-person only._
DTSTAMP:20260422T214030Z
END:VEVENT
END:VCALENDAR