BEGIN:VCALENDAR
VERSION:2.0
PRODID:-//Drupal iCal API//EN
X-WR-CALNAME:Events items teaser
X-WR-TIMEZONE:America/Toronto
BEGIN:VTIMEZONE
TZID:America/Toronto
X-LIC-LOCATION:America/Toronto
BEGIN:DAYLIGHT
TZNAME:EDT
TZOFFSETFROM:-0500
TZOFFSETTO:-0400
DTSTART:20250309T070000
END:DAYLIGHT
BEGIN:STANDARD
TZNAME:EST
TZOFFSETFROM:-0400
TZOFFSETTO:-0500
DTSTART:20241103T060000
END:STANDARD
END:VTIMEZONE
BEGIN:VEVENT
UID:69e9404e600b7
DTSTART;TZID=America/Toronto:20250408T080000
SEQUENCE:0
TRANSP:TRANSPARENT
DTEND;TZID=America/Toronto:20250408T110000
URL:https://uwaterloo.ca/chemistry/events/doctoral-thesis-defence-joanne-fe
 rnandez
SUMMARY:Doctoral Thesis Defence - Joanne Fernandez
CLASS:PUBLIC
DESCRIPTION:GRAFTING OF STARCH NANOPARTICLES WITH POLYMERS\n\nSUPERVISOR: M
 . GAUTHIER\n\nTUESDAY\, APRIL 8\, 2025 \n\n8:00 AM\n\nHYBRID: STC-2002 AN
 D TEAMS
DTSTAMP:20260422T214030Z
END:VEVENT
END:VCALENDAR