BEGIN:VCALENDAR
VERSION:2.0
PRODID:-//Drupal iCal API//EN
X-WR-CALNAME:Events items teaser
X-WR-TIMEZONE:America/Toronto
BEGIN:VTIMEZONE
TZID:America/Toronto
X-LIC-LOCATION:America/Toronto
BEGIN:DAYLIGHT
TZNAME:EDT
TZOFFSETFROM:-0500
TZOFFSETTO:-0400
DTSTART:20250309T070000
END:DAYLIGHT
BEGIN:STANDARD
TZNAME:EST
TZOFFSETFROM:-0400
TZOFFSETTO:-0500
DTSTART:20241103T060000
END:STANDARD
END:VTIMEZONE
BEGIN:VEVENT
UID:69e95671c0b99
DTSTART;TZID=America/Toronto:20250505T130000
SEQUENCE:0
TRANSP:TRANSPARENT
DTEND;TZID=America/Toronto:20250505T150000
URL:https://uwaterloo.ca/chemistry/events/masters-thesis-defence-christian-
 viernes
SUMMARY:Master's Thesis Defence - Christian Viernes
CLASS:PUBLIC
DESCRIPTION:MONITORING ULTRAFAST LATTICE DYNAMICS IN 2D MATERIALS\n\nSUPERV
 ISOR: G. SCIAINI\n\nMONDAY\, MAY 5\, 2025\n\n1 PM\n\nIN-PERSON: C2-361
DTSTAMP:20260422T231457Z
END:VEVENT
END:VCALENDAR