BEGIN:VCALENDAR
VERSION:2.0
PRODID:-//Drupal iCal API//EN
X-WR-CALNAME:Events items teaser
X-WR-TIMEZONE:America/Toronto
BEGIN:VTIMEZONE
TZID:America/Toronto
X-LIC-LOCATION:America/Toronto
BEGIN:DAYLIGHT
TZNAME:EDT
TZOFFSETFROM:-0500
TZOFFSETTO:-0400
DTSTART:20250309T070000
END:DAYLIGHT
BEGIN:STANDARD
TZNAME:EST
TZOFFSETFROM:-0400
TZOFFSETTO:-0500
DTSTART:20241103T060000
END:STANDARD
END:VTIMEZONE
BEGIN:VEVENT
UID:69eb60471bf7c
DTSTART;TZID=America/Toronto:20250624T143000
SEQUENCE:0
TRANSP:TRANSPARENT
DTEND;TZID=America/Toronto:20250624T160000
URL:https://uwaterloo.ca/chemistry/events/masters-seminar-pavithra-parthiba
 n
SUMMARY:Master's Seminar - Pavithra Parthiban
CLASS:PUBLIC
DESCRIPTION:CHIROPTICAL PROPERTIES OF HYBRID HALIDE PEROVSKITES\n\nSupervis
 or: P. Radovanovic\nCommittee members: H. Kleinke\, V. Maheshwari\n\nTUE
 SDAY\, JUNE 24\, 2025\n2:30 pm\n\nC2-361
DTSTAMP:20260424T122127Z
END:VEVENT
END:VCALENDAR