BEGIN:VCALENDAR
VERSION:2.0
PRODID:-//Drupal iCal API//EN
X-WR-CALNAME:Events items teaser
X-WR-TIMEZONE:America/Toronto
BEGIN:VTIMEZONE
TZID:America/Toronto
X-LIC-LOCATION:America/Toronto
BEGIN:DAYLIGHT
TZNAME:EDT
TZOFFSETFROM:-0500
TZOFFSETTO:-0400
DTSTART:20250309T070000
END:DAYLIGHT
BEGIN:STANDARD
TZNAME:EST
TZOFFSETFROM:-0400
TZOFFSETTO:-0500
DTSTART:20241103T060000
END:STANDARD
END:VTIMEZONE
BEGIN:VEVENT
UID:69e9991ec3f53
DTSTART;TZID=America/Toronto:20250626T143000
SEQUENCE:0
TRANSP:TRANSPARENT
DTEND;TZID=America/Toronto:20250626T160000
URL:https://uwaterloo.ca/chemistry/events/masters-seminar-lauren-diloreto
SUMMARY:Master's Seminar - Lauren DiLoreto
CLASS:PUBLIC
DESCRIPTION:UPCYCLING OF POLYOLEFINS INTO STRESS-RESPONSIVE MATERIALS\n\nSu
 pervisor: Y. Lin\nCommittee members: J. Duhamel\, E. Prince\n\nTHURSDAY\, 
 JUNE 26\, 2025\n2:30 pm\n\nC2-278
DTSTAMP:20260423T035926Z
END:VEVENT
END:VCALENDAR