BEGIN:VCALENDAR
VERSION:2.0
PRODID:-//Drupal iCal API//EN
X-WR-CALNAME:Events items teaser
X-WR-TIMEZONE:America/Toronto
BEGIN:VTIMEZONE
TZID:America/Toronto
X-LIC-LOCATION:America/Toronto
BEGIN:DAYLIGHT
TZNAME:EDT
TZOFFSETFROM:-0500
TZOFFSETTO:-0400
DTSTART:20250309T070000
END:DAYLIGHT
BEGIN:STANDARD
TZNAME:EST
TZOFFSETFROM:-0400
TZOFFSETTO:-0500
DTSTART:20241103T060000
END:STANDARD
END:VTIMEZONE
BEGIN:VEVENT
UID:69e93e02f09fc
DTSTART;TZID=America/Toronto:20250703T143000
SEQUENCE:0
TRANSP:TRANSPARENT
DTEND;TZID=America/Toronto:20250703T160000
URL:https://uwaterloo.ca/chemistry/events/masters-seminar-danyah-khan
SUMMARY:Master's Seminar - Danyah Khan
CLASS:PUBLIC
DESCRIPTION:OPTIMIZING PEROVSKITE SOLAR CELLS: FLUORINATED LIGAND VS. POLYM
 ER\nPASSIVATIO\n\nSupervisor: V. Maheshwari\nCommittee members: P. Radov
 anovic\, T. Leung\n\nTHURSDAY\, JULY 3\, 2025\n2:30 pm\n\nC2-361
DTSTAMP:20260422T213042Z
END:VEVENT
END:VCALENDAR