BEGIN:VCALENDAR
VERSION:2.0
PRODID:-//Drupal iCal API//EN
X-WR-CALNAME:Events items teaser
X-WR-TIMEZONE:America/Toronto
BEGIN:VTIMEZONE
TZID:America/Toronto
X-LIC-LOCATION:America/Toronto
BEGIN:DAYLIGHT
TZNAME:EDT
TZOFFSETFROM:-0500
TZOFFSETTO:-0400
DTSTART:20250309T070000
END:DAYLIGHT
BEGIN:STANDARD
TZNAME:EST
TZOFFSETFROM:-0400
TZOFFSETTO:-0500
DTSTART:20241103T060000
END:STANDARD
END:VTIMEZONE
BEGIN:VEVENT
UID:69e96b5d23da2
DTSTART;TZID=America/Toronto:20250715T143000
SEQUENCE:0
TRANSP:TRANSPARENT
DTEND;TZID=America/Toronto:20250715T160000
URL:https://uwaterloo.ca/chemistry/events/masters-seminar-jincheng-ren
SUMMARY:Master's Seminar - Jincheng Ren
CLASS:PUBLIC
DESCRIPTION:BRIDGING TWO WORLDS: SYNTHESIS OF AN IMIDAZOPYRIMIDINE-BASED\nT
 ETRAMETALLIC MACROCYCLIC COMPLEX\n\nSupervisor: D. Schipper\nCommittee mem
 bers: G. Murphy\, J. Corrigan\n\nTUESDAY\, JULY 15\, 2025\n2:30 pm\n\nC2-3
 61
DTSTAMP:20260423T004413Z
END:VEVENT
END:VCALENDAR