BEGIN:VCALENDAR
VERSION:2.0
PRODID:-//Drupal iCal API//EN
X-WR-CALNAME:Events items teaser
X-WR-TIMEZONE:America/Toronto
BEGIN:VTIMEZONE
TZID:America/Toronto
X-LIC-LOCATION:America/Toronto
BEGIN:DAYLIGHT
TZNAME:EDT
TZOFFSETFROM:-0500
TZOFFSETTO:-0400
DTSTART:20220313T070000
END:DAYLIGHT
BEGIN:STANDARD
TZNAME:EST
TZOFFSETFROM:-0400
TZOFFSETTO:-0500
DTSTART:20221106T060000
END:STANDARD
END:VTIMEZONE
BEGIN:VEVENT
UID:69eca1fa5d36c
DTSTART;TZID=America/Toronto:20230113T140000
SEQUENCE:0
TRANSP:TRANSPARENT
DTEND;TZID=America/Toronto:20230113T140000
URL:https://uwaterloo.ca/chemistry/events/masters-thesis-defence-andrew-gol
 abek
SUMMARY:Master's Thesis Defence - Andrew Golabek
CLASS:PUBLIC
DESCRIPTION:\"OPTIMIZATION OF TIN SELENIDE THERMOELECTRIC PROPERTIES\"\n\nS
 UPERVISOR:  H. Kleinke\nLOCATION:     C2-278
DTSTAMP:20260425T111402Z
END:VEVENT
END:VCALENDAR